Package: ConnectivityMap Version: 1.38.0 Maintainer: Paul Shannon MaintainerEmail: pshannon at systemsbiology.org git_url: https://git.bioconductor.org/packages/ConnectivityMap git_branch: RELEASE_3_18 git_last_commit: 4b7ff6f git_last_commit_date: 2023-10-24 09:05:08 -0400 (Tue, 24 Oct 2023)