Package: CopyNeutralIMA Version: 1.20.0 Maintainer: Xavier Pastor Hostench MaintainerEmail: xavier.pastor at compbio-dev.com git_url: https://git.bioconductor.org/packages/CopyNeutralIMA git_branch: RELEASE_3_18 git_last_commit: 3b2f5c8 git_last_commit_date: 2023-10-24 09:18:26 -0400 (Tue, 24 Oct 2023)