Package: DLBCL Version: 1.42.2 Command: /home/biocbuild/bbs-3.18-bioc/R/bin/R CMD build --keep-empty-dirs --no-resave-data DLBCL StartedAt: 2024-04-16 10:24:25 -0400 (Tue, 16 Apr 2024) EndedAt: 2024-04-16 10:24:27 -0400 (Tue, 16 Apr 2024) EllapsedTime: 2.0 seconds RetCode: 0 Status: OK PackageFile: DLBCL_1.42.2.tar.gz PackageFileSize: 5.525 MiB