Package: DLBCL Version: 1.42.2 Command: /home/biocbuild/bbs-3.18-bioc/R/bin/R CMD INSTALL DLBCL StartedAt: 2024-04-16 10:01:55 -0400 (Tue, 16 Apr 2024) EndedAt: 2024-04-16 10:01:59 -0400 (Tue, 16 Apr 2024) EllapsedTime: 3.9 seconds RetCode: 0 Status: OK