Package: EatonEtAlChIPseq Version: 0.40.0 Maintainer: Patrick Aboyoun MaintainerEmail: paboyoun at fhcrc.org git_url: https://git.bioconductor.org/packages/EatonEtAlChIPseq git_branch: RELEASE_3_18 git_last_commit: 9750f41 git_last_commit_date: 2023-10-24 08:56:25 -0400 (Tue, 24 Oct 2023)