Package: EpiMix.data Version: 1.4.0 Maintainer: Yuanning Zheng MaintainerEmail: eric2021 at stanford.edu git_url: https://git.bioconductor.org/packages/EpiMix.data git_branch: RELEASE_3_18 git_last_commit: 6c2b70c git_last_commit_date: 2023-10-24 09:23:45 -0400 (Tue, 24 Oct 2023)