Package: EpiMix.data Version: 1.4.0 Command: /home/biocbuild/bbs-3.18-bioc/R/bin/R CMD build --keep-empty-dirs --no-resave-data EpiMix.data StartedAt: 2024-04-16 10:25:50 -0400 (Tue, 16 Apr 2024) EndedAt: 2024-04-16 10:26:09 -0400 (Tue, 16 Apr 2024) EllapsedTime: 19.0 seconds RetCode: 0 Status: OK PackageFile: EpiMix.data_1.4.0.tar.gz PackageFileSize: 5.021 MiB