Package: FIs Version: 1.30.0 Maintainer: Herbert Braselmann , Martin Selmansberger MaintainerEmail: martin.selmansberger at helmholtz-muenchen.de git_url: https://git.bioconductor.org/packages/FIs git_branch: RELEASE_3_18 git_last_commit: 6ebc57f git_last_commit_date: 2023-10-24 09:11:35 -0400 (Tue, 24 Oct 2023)