Package: FieldEffectCrc Version: 1.12.0 Command: /home/biocbuild/bbs-3.18-bioc/R/bin/R CMD check --install=check:FieldEffectCrc.install-out.txt --library=/home/biocbuild/bbs-3.18-bioc/R/site-library --timings FieldEffectCrc_1.12.0.tar.gz StartedAt: 2024-04-16 11:28:38 -0400 (Tue, 16 Apr 2024) EndedAt: 2024-04-16 11:38:25 -0400 (Tue, 16 Apr 2024) EllapsedTime: 587.2 seconds RetCode: 0 Status: OK CheckDir: FieldEffectCrc.Rcheck Warnings: 0