Package: Fletcher2013a Version: 1.38.0 Maintainer: Mauro Castro MaintainerEmail: mauro.a.castro at gmail.com git_url: https://git.bioconductor.org/packages/Fletcher2013a git_branch: RELEASE_3_18 git_last_commit: 8b745f2 git_last_commit_date: 2023-10-24 09:06:15 -0400 (Tue, 24 Oct 2023)