Package: Fletcher2013a Version: 1.38.0 Command: /home/biocbuild/bbs-3.18-bioc/R/bin/R CMD build --keep-empty-dirs --no-resave-data Fletcher2013a StartedAt: 2024-04-16 10:27:37 -0400 (Tue, 16 Apr 2024) EndedAt: 2024-04-16 10:27:53 -0400 (Tue, 16 Apr 2024) EllapsedTime: 15.6 seconds RetCode: 0 Status: OK PackageFile: Fletcher2013a_1.38.0.tar.gz PackageFileSize: 73.16 MiB