Package: Fletcher2013a Version: 1.38.0 Command: /home/biocbuild/bbs-3.18-bioc/R/bin/R CMD check --install=check:Fletcher2013a.install-out.txt --library=/home/biocbuild/bbs-3.18-bioc/R/site-library --timings Fletcher2013a_1.38.0.tar.gz StartedAt: 2024-04-16 11:29:01 -0400 (Tue, 16 Apr 2024) EndedAt: 2024-04-16 11:29:56 -0400 (Tue, 16 Apr 2024) EllapsedTime: 55.0 seconds RetCode: 0 Status: OK CheckDir: Fletcher2013a.Rcheck Warnings: 0