Package: Fletcher2013b Version: 1.38.0 Command: /home/biocbuild/bbs-3.18-bioc/R/bin/R CMD build --keep-empty-dirs --no-resave-data Fletcher2013b StartedAt: 2024-04-16 10:27:42 -0400 (Tue, 16 Apr 2024) EndedAt: 2024-04-16 10:28:30 -0400 (Tue, 16 Apr 2024) EllapsedTime: 48.4 seconds RetCode: 0 Status: OK PackageFile: Fletcher2013b_1.38.0.tar.gz PackageFileSize: 263.3 MiB