Package: FlowSorted.DLPFC.450k Version: 1.38.0 Maintainer: Andrew E Jaffe MaintainerEmail: andrew.jaffe at libd.org git_url: https://git.bioconductor.org/packages/FlowSorted.DLPFC.450k git_branch: RELEASE_3_18 git_last_commit: b5b90bb git_last_commit_date: 2023-10-24 09:08:00 -0400 (Tue, 24 Oct 2023)