Package: HSMMSingleCell Version: 1.22.0 Command: /home/biocbuild/bbs-3.18-bioc/R/bin/R CMD build --keep-empty-dirs --no-resave-data HSMMSingleCell StartedAt: 2024-04-16 10:36:18 -0400 (Tue, 16 Apr 2024) EndedAt: 2024-04-16 10:36:20 -0400 (Tue, 16 Apr 2024) EllapsedTime: 2.0 seconds RetCode: 0 Status: OK PackageFile: HSMMSingleCell_1.22.0.tar.gz PackageFileSize: 16.09 MiB