Package: HighlyReplicatedRNASeq Version: 1.14.0 Maintainer: Constantin Ahlmann-Eltze MaintainerEmail: artjom31415 at googlemail.com git_url: https://git.bioconductor.org/packages/HighlyReplicatedRNASeq git_branch: RELEASE_3_18 git_last_commit: 1dd0c87 git_last_commit_date: 2023-10-24 09:20:39 -0400 (Tue, 24 Oct 2023)