Package: MMAPPR2data Version: 1.16.0 Maintainer: Jonathon Hill MaintainerEmail: jhill at byu.edu git_url: https://git.bioconductor.org/packages/MMAPPR2data git_branch: RELEASE_3_18 git_last_commit: b6e0950 git_last_commit_date: 2023-10-24 09:19:59 -0400 (Tue, 24 Oct 2023)