Package: MOFAdata Version: 1.18.0 Maintainer: Britta Velten MaintainerEmail: britta.velten at gmail.com git_url: https://git.bioconductor.org/packages/MOFAdata git_branch: RELEASE_3_18 git_last_commit: f0c52b3 git_last_commit_date: 2023-10-24 09:19:35 -0400 (Tue, 24 Oct 2023)