Package: MSMB Version: 1.20.0 Maintainer: Wolfgang Huber MaintainerEmail: wolfgang.huber at embl.org git_url: https://git.bioconductor.org/packages/MSMB git_branch: RELEASE_3_18 git_last_commit: 2f9c796 git_last_commit_date: 2023-10-24 09:18:14 -0400 (Tue, 24 Oct 2023)