Package: MethylSeqData Version: 1.12.0 Maintainer: Peter Hickey MaintainerEmail: peter.hickey at gmail.com git_url: https://git.bioconductor.org/packages/MethylSeqData git_branch: RELEASE_3_18 git_last_commit: 61b5e50 git_last_commit_date: 2023-10-24 09:21:23 -0400 (Tue, 24 Oct 2023)