Package: MethylSeqData Version: 1.12.0 Command: /home/biocbuild/bbs-3.18-bioc/R/bin/R CMD build --keep-empty-dirs --no-resave-data MethylSeqData StartedAt: 2024-04-16 10:41:24 -0400 (Tue, 16 Apr 2024) EndedAt: 2024-04-16 10:42:19 -0400 (Tue, 16 Apr 2024) EllapsedTime: 55.0 seconds RetCode: 0 Status: OK PackageFile: MethylSeqData_1.12.0.tar.gz PackageFileSize: 227 KiB