Package: MethylSeqData Version: 1.12.0 Command: /home/biocbuild/bbs-3.18-bioc/R/bin/R CMD INSTALL MethylSeqData StartedAt: 2024-04-16 10:08:03 -0400 (Tue, 16 Apr 2024) EndedAt: 2024-04-16 10:08:31 -0400 (Tue, 16 Apr 2024) EllapsedTime: 27.9 seconds RetCode: 0 Status: OK