Package: PREDAsampledata Version: 0.42.0 Command: /home/biocbuild/bbs-3.18-bioc/R/bin/R CMD build --keep-empty-dirs --no-resave-data PREDAsampledata StartedAt: 2024-04-16 10:46:31 -0400 (Tue, 16 Apr 2024) EndedAt: 2024-04-16 10:46:52 -0400 (Tue, 16 Apr 2024) EllapsedTime: 20.3 seconds RetCode: 0 Status: OK PackageFile: PREDAsampledata_0.42.0.tar.gz PackageFileSize: 66.79 MiB