Package: PhyloProfileData Version: 1.16.0 Maintainer: Vinh Tran MaintainerEmail: tran at bio.uni-frankfurt.de git_url: https://git.bioconductor.org/packages/PhyloProfileData git_branch: RELEASE_3_18 git_last_commit: a7660cf git_last_commit_date: 2023-10-24 09:20:09 -0400 (Tue, 24 Oct 2023)