Package: PhyloProfileData Version: 1.16.0 Command: /home/biocbuild/bbs-3.18-bioc/R/bin/R CMD build --keep-empty-dirs --no-resave-data PhyloProfileData StartedAt: 2024-04-16 10:46:14 -0400 (Tue, 16 Apr 2024) EndedAt: 2024-04-16 10:46:47 -0400 (Tue, 16 Apr 2024) EllapsedTime: 33.2 seconds RetCode: 0 Status: OK PackageFile: PhyloProfileData_1.16.0.tar.gz PackageFileSize: 225.8 KiB