Package: PhyloProfileData Version: 1.16.0 Command: /home/biocbuild/bbs-3.18-bioc/R/bin/R CMD check --install=check:PhyloProfileData.install-out.txt --library=/home/biocbuild/bbs-3.18-bioc/R/site-library --timings PhyloProfileData_1.16.0.tar.gz StartedAt: 2024-04-16 12:05:50 -0400 (Tue, 16 Apr 2024) EndedAt: 2024-04-16 12:07:52 -0400 (Tue, 16 Apr 2024) EllapsedTime: 121.9 seconds RetCode: 0 Status: OK CheckDir: PhyloProfileData.Rcheck Warnings: 0