Package: PhyloProfileData Version: 1.16.0 Command: /home/biocbuild/bbs-3.18-bioc/R/bin/R CMD INSTALL PhyloProfileData StartedAt: 2024-04-16 10:04:02 -0400 (Tue, 16 Apr 2024) EndedAt: 2024-04-16 10:04:17 -0400 (Tue, 16 Apr 2024) EllapsedTime: 14.8 seconds RetCode: 0 Status: OK