Package: RRBSdata Version: 1.22.0 Command: /home/biocbuild/bbs-3.18-bioc/R/bin/R CMD build --keep-empty-dirs --no-resave-data RRBSdata StartedAt: 2024-04-16 10:49:22 -0400 (Tue, 16 Apr 2024) EndedAt: 2024-04-16 10:50:02 -0400 (Tue, 16 Apr 2024) EllapsedTime: 40.4 seconds RetCode: 0 Status: OK PackageFile: RRBSdata_1.22.0.tar.gz PackageFileSize: 73.93 MiB