Package: RTCGA.mRNA Version: 1.30.0 Maintainer: Marcin Kosinski MaintainerEmail: m.p.kosinski at gmail.com git_url: https://git.bioconductor.org/packages/RTCGA.mRNA git_branch: RELEASE_3_18 git_last_commit: 5e81af7 git_last_commit_date: 2023-10-24 09:13:15 -0400 (Tue, 24 Oct 2023)