Package: RTCGA.mRNA Version: 1.30.0 Command: /home/biocbuild/bbs-3.18-bioc/R/bin/R CMD build --keep-empty-dirs --no-resave-data RTCGA.mRNA StartedAt: 2024-04-16 10:50:03 -0400 (Tue, 16 Apr 2024) EndedAt: 2024-04-16 10:51:01 -0400 (Tue, 16 Apr 2024) EllapsedTime: 58.5 seconds RetCode: 0 Status: OK PackageFile: RTCGA.mRNA_1.30.0.tar.gz PackageFileSize: 84.98 MiB