Package: RTCGA.mRNA Version: 1.30.0 Command: /home/biocbuild/bbs-3.18-bioc/R/bin/R CMD INSTALL RTCGA.mRNA StartedAt: 2024-04-16 10:03:22 -0400 (Tue, 16 Apr 2024) EndedAt: 2024-04-16 10:04:13 -0400 (Tue, 16 Apr 2024) EllapsedTime: 51.7 seconds RetCode: 0 Status: OK