Package: RcisTarget.hg19.motifDBs.cisbpOnly.500bp Version: 1.22.0 Command: /home/biocbuild/bbs-3.18-bioc/R/bin/R CMD build --keep-empty-dirs --no-resave-data RcisTarget.hg19.motifDBs.cisbpOnly.500bp StartedAt: 2024-04-16 10:47:46 -0400 (Tue, 16 Apr 2024) EndedAt: 2024-04-16 10:47:58 -0400 (Tue, 16 Apr 2024) EllapsedTime: 11.6 seconds RetCode: 0 Status: OK PackageFile: RcisTarget.hg19.motifDBs.cisbpOnly.500bp_1.22.0.tar.gz PackageFileSize: 53.48 MiB