Package: RcisTarget.hg19.motifDBs.cisbpOnly.500bp Version: 1.22.0 Command: /home/biocbuild/bbs-3.18-bioc/R/bin/R CMD INSTALL RcisTarget.hg19.motifDBs.cisbpOnly.500bp StartedAt: 2024-04-16 10:01:19 -0400 (Tue, 16 Apr 2024) EndedAt: 2024-04-16 10:01:28 -0400 (Tue, 16 Apr 2024) EllapsedTime: 8.9 seconds RetCode: 0 Status: OK