Package: SCATEData Version: 1.12.0 Maintainer: Wenpin Hou MaintainerEmail: wp.hou3 at gmail.com git_url: https://git.bioconductor.org/packages/SCATEData git_branch: RELEASE_3_18 git_last_commit: 2ba0dcf git_last_commit_date: 2023-10-24 09:21:08 -0400 (Tue, 24 Oct 2023)