Package: SFEData Version: 1.4.0 Maintainer: Lambda Moses MaintainerEmail: dlu2 at caltech.edu git_url: https://git.bioconductor.org/packages/SFEData git_branch: RELEASE_3_18 git_last_commit: 8fd0925 git_last_commit_date: 2023-10-24 09:23:57 -0400 (Tue, 24 Oct 2023)