Package: SFEData Version: 1.4.0 Command: /home/biocbuild/bbs-3.18-bioc/R/bin/R CMD build --keep-empty-dirs --no-resave-data SFEData StartedAt: 2024-04-16 10:53:23 -0400 (Tue, 16 Apr 2024) EndedAt: 2024-04-16 10:53:59 -0400 (Tue, 16 Apr 2024) EllapsedTime: 36.1 seconds RetCode: 0 Status: OK PackageFile: SFEData_1.4.0.tar.gz PackageFileSize: 232.9 KiB