Package: STexampleData Version: 1.10.1 Command: /home/biocbuild/bbs-3.18-bioc/R/bin/R CMD build --keep-empty-dirs --no-resave-data STexampleData StartedAt: 2024-04-16 10:54:28 -0400 (Tue, 16 Apr 2024) EndedAt: 2024-04-16 10:55:47 -0400 (Tue, 16 Apr 2024) EllapsedTime: 78.6 seconds RetCode: 0 Status: OK PackageFile: STexampleData_1.10.1.tar.gz PackageFileSize: 228.4 KiB