Package: STexampleData Version: 1.10.1 Command: /home/biocbuild/bbs-3.18-bioc/R/bin/R CMD check --install=check:STexampleData.install-out.txt --library=/home/biocbuild/bbs-3.18-bioc/R/site-library --timings STexampleData_1.10.1.tar.gz StartedAt: 2024-04-16 12:24:03 -0400 (Tue, 16 Apr 2024) EndedAt: 2024-04-16 12:29:27 -0400 (Tue, 16 Apr 2024) EllapsedTime: 323.7 seconds RetCode: 0 Status: OK CheckDir: STexampleData.Rcheck Warnings: 0