Package: SVM2CRMdata Version: 1.34.0 Command: /home/biocbuild/bbs-3.18-bioc/R/bin/R CMD build --keep-empty-dirs --no-resave-data SVM2CRMdata StartedAt: 2024-04-16 10:54:29 -0400 (Tue, 16 Apr 2024) EndedAt: 2024-04-16 10:57:46 -0400 (Tue, 16 Apr 2024) EllapsedTime: 197.5 seconds RetCode: 0 Status: OK PackageFile: SVM2CRMdata_1.34.0.tar.gz PackageFileSize: 344.8 MiB