Package: SpikeInSubset Version: 1.42.0 Maintainer: Robert D Shear MaintainerEmail: rshear at ds.dfci.harvard.edu git_url: https://git.bioconductor.org/packages/SpikeInSubset git_branch: RELEASE_3_18 git_last_commit: 346a7b0 git_last_commit_date: 2023-10-24 08:54:21 -0400 (Tue, 24 Oct 2023)