Package: TBX20BamSubset Version: 1.38.0 Maintainer: D. Bindreither MaintainerEmail: daniel.bindreither at gmail.com git_url: https://git.bioconductor.org/packages/TBX20BamSubset git_branch: RELEASE_3_18 git_last_commit: 8616b9d git_last_commit_date: 2023-10-24 08:58:29 -0400 (Tue, 24 Oct 2023)