Package: TCGAcrcmRNA Version: 1.22.0 Command: /home/biocbuild/bbs-3.18-bioc/R/bin/R CMD check --install=check:TCGAcrcmRNA.install-out.txt --library=/home/biocbuild/bbs-3.18-bioc/R/site-library --timings TCGAcrcmRNA_1.22.0.tar.gz StartedAt: 2024-04-16 12:27:52 -0400 (Tue, 16 Apr 2024) EndedAt: 2024-04-16 12:28:24 -0400 (Tue, 16 Apr 2024) EllapsedTime: 32.0 seconds RetCode: 0 Status: OK CheckDir: TCGAcrcmRNA.Rcheck Warnings: 0