Package: TCGAcrcmRNA Version: 1.22.0 Command: /home/biocbuild/bbs-3.18-bioc/R/bin/R CMD INSTALL TCGAcrcmRNA StartedAt: 2024-04-16 10:01:31 -0400 (Tue, 16 Apr 2024) EndedAt: 2024-04-16 10:01:32 -0400 (Tue, 16 Apr 2024) EllapsedTime: 1.7 seconds RetCode: 0 Status: OK