Package: TENxBUSData Version: 1.16.0 Maintainer: Lambda Moses MaintainerEmail: dlu2 at caltech.edu git_url: https://git.bioconductor.org/packages/TENxBUSData git_branch: RELEASE_3_18 git_last_commit: 8f20078 git_last_commit_date: 2023-10-24 09:20:11 -0400 (Tue, 24 Oct 2023)