Package: TENxBUSData Version: 1.16.0 Command: /home/biocbuild/bbs-3.18-bioc/R/bin/R CMD build --keep-empty-dirs --no-resave-data TENxBUSData StartedAt: 2024-04-16 10:56:24 -0400 (Tue, 16 Apr 2024) EndedAt: 2024-04-16 10:57:04 -0400 (Tue, 16 Apr 2024) EllapsedTime: 40.1 seconds RetCode: 0 Status: OK PackageFile: TENxBUSData_1.16.0.tar.gz PackageFileSize: 221.2 KiB