Package: TENxBUSData Version: 1.16.0 Command: /home/biocbuild/bbs-3.18-bioc/R/bin/R CMD INSTALL TENxBUSData StartedAt: 2024-04-16 10:04:32 -0400 (Tue, 16 Apr 2024) EndedAt: 2024-04-16 10:04:48 -0400 (Tue, 16 Apr 2024) EllapsedTime: 15.3 seconds RetCode: 0 Status: OK