Package: TargetScoreData Version: 1.38.0 Maintainer: Yue Li MaintainerEmail: yueli at cs.toronto.edu git_url: https://git.bioconductor.org/packages/TargetScoreData git_branch: RELEASE_3_18 git_last_commit: 4d2f19e git_last_commit_date: 2023-10-24 09:06:08 -0400 (Tue, 24 Oct 2023)