Package: TargetScoreData Version: 1.38.0 Command: /home/biocbuild/bbs-3.18-bioc/R/bin/R CMD build --keep-empty-dirs --no-resave-data TargetScoreData StartedAt: 2024-04-16 10:55:07 -0400 (Tue, 16 Apr 2024) EndedAt: 2024-04-16 10:55:43 -0400 (Tue, 16 Apr 2024) EllapsedTime: 36.0 seconds RetCode: 0 Status: OK PackageFile: TargetScoreData_1.38.0.tar.gz PackageFileSize: 206.2 MiB