Package: TimerQuant Version: 1.32.0 Command: /home/biocbuild/bbs-3.18-bioc/R/bin/R CMD INSTALL TimerQuant StartedAt: 2024-04-16 10:01:59 -0400 (Tue, 16 Apr 2024) EndedAt: 2024-04-16 10:02:04 -0400 (Tue, 16 Apr 2024) EllapsedTime: 5.3 seconds RetCode: 0 Status: OK