Package: WES.1KG.WUGSC Version: 1.34.0 Maintainer: Yuchao Jiang MaintainerEmail: yuchaoj at wharton.upenn.edu git_url: https://git.bioconductor.org/packages/WES.1KG.WUGSC git_branch: RELEASE_3_18 git_last_commit: 5add20b git_last_commit_date: 2023-10-24 09:09:32 -0400 (Tue, 24 Oct 2023)